0.15000000000000
0.00000000000000
0.00000000000000
-0.15000000000000
555750.07499999995343
4481999.92499999981374
