0.15000000000000
0.00000000000000
0.00000000000000
-0.15000000000000
554250.07499999995343
4486499.92499999981374
