0.15000000000000
0.00000000000000
0.00000000000000
-0.15000000000000
552750.07499999995343
4483499.92499999981374
