0.15000000000000
0.00000000000000
0.00000000000000
-0.15000000000000
363750.07500000001164
4772249.92499999981374
