0.15000000000000
0.00000000000000
0.00000000000000
-0.15000000000000
354750.07500000001164
4764749.92499999981374
