0.15000000000000
0.00000000000000
0.00000000000000
-0.15000000000000
354000.07500000001164
4755749.92499999981374
