0.15000000000000
0.00000000000000
0.00000000000000
-0.15000000000000
349500.07500000001164
4781999.92499999981374
