0.15000000000000
0.00000000000000
0.00000000000000
-0.15000000000000
348750.07500000001164
4747499.92499999981374
