0.15000000000000
0.00000000000000
0.00000000000000
-0.15000000000000
348000.07500000001164
4772999.92499999981374
