0.15000000000000
0.00000000000000
0.00000000000000
-0.15000000000000
344250.07500000001164
4771499.92499999981374
