0.15000000000000
0.00000000000000
0.00000000000000
-0.15000000000000
639000.07499999995343
5006249.92499999981374
