0.15000000000000
0.00000000000000
0.00000000000000
-0.15000000000000
633000.07499999995343
5003999.92499999981374
