0.15000000000000
0.00000000000000
0.00000000000000
-0.15000000000000
630750.07499999995343
5003249.92499999981374
