0.15000000000000
0.00000000000000
0.00000000000000
-0.15000000000000
657000.07499999995343
4966499.92499999981374
