0.15000000000000
0.00000000000000
0.00000000000000
-0.15000000000000
650250.07499999995343
4985249.92499999981374
