0.15000000000000
0.00000000000000
0.00000000000000
-0.15000000000000
650250.07499999995343
4962749.92499999981374
