0.15000000000000
0.00000000000000
0.00000000000000
-0.15000000000000
647250.07499999995343
4963499.92499999981374
