0.15000000000000
0.00000000000000
0.00000000000000
-0.15000000000000
644250.07499999995343
4978499.92499999981374
