0.15000000000000
0.00000000000000
0.00000000000000
-0.15000000000000
643500.07499999995343
4967249.92499999981374
