0.15000000000000
0.00000000000000
0.00000000000000
-0.15000000000000
641250.07499999995343
4976249.92499999981374
