0.15000000000000
0.00000000000000
0.00000000000000
-0.15000000000000
634500.07499999995343
4949999.92499999981374
