0.15000000000000
0.00000000000000
0.00000000000000
-0.15000000000000
629250.07499999995343
4952249.92499999981374
