0.15000000000000
0.00000000000000
0.00000000000000
-0.15000000000000
619500.07499999995343
4951499.92499999981374
