0.15000000000000
0.00000000000000
0.00000000000000
-0.15000000000000
613500.07499999995343
4944749.92499999981374
