0.15000000000000
0.00000000000000
0.00000000000000
-0.15000000000000
607500.07499999995343
4934249.92499999981374
