0.15000000000000
0.00000000000000
0.00000000000000
-0.15000000000000
598500.07499999995343
4943999.92499999981374
