0.15000000000000
0.00000000000000
0.00000000000000
-0.15000000000000
597750.07499999995343
4934999.92499999981374
