0.15000000000000
0.00000000000000
0.00000000000000
-0.15000000000000
592500.07499999995343
4927499.92499999981374
