0.15000000000000
0.00000000000000
0.00000000000000
-0.15000000000000
592500.07499999995343
4923749.92499999981374
