0.15000000000000
0.00000000000000
0.00000000000000
-0.15000000000000
589500.07499999995343
4931249.92499999981374
