0.15000000000000
0.00000000000000
0.00000000000000
-0.15000000000000
588750.07499999995343
4941749.92499999981374
