0.15000000000000
0.00000000000000
0.00000000000000
-0.15000000000000
572250.07499999995343
4922999.92499999981374
