0.15000000000000
0.00000000000000
0.00000000000000
-0.15000000000000
569250.07499999995343
4915499.92499999981374
