0.15000000000000
0.00000000000000
0.00000000000000
-0.15000000000000
564000.07499999995343
4907249.92499999981374
