0.15000000000000
0.00000000000000
0.00000000000000
-0.15000000000000
548250.07499999995343
4912499.92499999981374
