0.15000000000000
0.00000000000000
0.00000000000000
-0.15000000000000
547500.07499999995343
4917749.92499999981374
