0.15000000000000
0.00000000000000
0.00000000000000
-0.15000000000000
546750.07499999995343
4916249.92499999981374
