0.15000000000000
0.00000000000000
0.00000000000000
-0.15000000000000
546000.07499999995343
4904249.92499999981374
