0.15000000000000
0.00000000000000
0.00000000000000
-0.15000000000000
545250.07499999995343
4922249.92499999981374
