0.15000000000000
0.00000000000000
0.00000000000000
-0.15000000000000
543000.07499999995343
4907999.92499999981374
