0.15000000000000
0.00000000000000
0.00000000000000
-0.15000000000000
538500.07499999995343
4919999.92499999981374
