0.15000000000000
0.00000000000000
0.00000000000000
-0.15000000000000
537750.07499999995343
4906499.92499999981374
