0.15000000000000
0.00000000000000
0.00000000000000
-0.15000000000000
529500.07499999995343
4901249.92499999981374
