0.15000000000000
0.00000000000000
0.00000000000000
-0.15000000000000
526500.07499999995343
4908749.92499999981374
