0.15000000000000
0.00000000000000
0.00000000000000
-0.15000000000000
524250.07500000001164
4917749.92499999981374
