0.15000000000000
0.00000000000000
0.00000000000000
-0.15000000000000
520500.07500000001164
4926749.92499999981374
