0.15000000000000
0.00000000000000
0.00000000000000
-0.15000000000000
515250.07500000001164
4913249.92499999981374
