0.15000000000000
0.00000000000000
0.00000000000000
-0.15000000000000
514500.07500000001164
4960499.92499999981374
