0.15000000000000
0.00000000000000
0.00000000000000
-0.15000000000000
513750.07500000001164
4923749.92499999981374
