0.15000000000000
0.00000000000000
0.00000000000000
-0.15000000000000
513000.07500000001164
4933499.92499999981374
